BEGIN:VCALENDAR
VERSION:2.0
PRODID:-//Kinder - und Jugendhaus Barenburg - ECPv5.16.1//NONSGML v1.0//EN
CALSCALE:GREGORIAN
METHOD:PUBLISH
X-WR-CALNAME:Kinder - und Jugendhaus Barenburg
X-ORIGINAL-URL:https://www.kjhb.jugendinemden.de
X-WR-CALDESC:Veranstaltungen für Kinder - und Jugendhaus Barenburg
BEGIN:VTIMEZONE
TZID:Europe/Berlin
BEGIN:DAYLIGHT
TZOFFSETFROM:+0100
TZOFFSETTO:+0200
TZNAME:CEST
DTSTART:20220327T010000
END:DAYLIGHT
BEGIN:STANDARD
TZOFFSETFROM:+0200
TZOFFSETTO:+0100
TZNAME:CET
DTSTART:20221030T010000
END:STANDARD
END:VTIMEZONE
BEGIN:VEVENT
DTSTART;TZID=Europe/Berlin:20220714T160000
DTEND;TZID=Europe/Berlin:20220714T160000
DTSTAMP:20260423T143934
CREATED:20220714T062134Z
LAST-MODIFIED:20220714T085631Z
UID:2536-1657814400-1657814400@www.kjhb.jugendinemden.de
SUMMARY:Shools out Party
DESCRIPTION:Auf dem Außen Gelände der KJHB geht heute die Post ab!\nAb 16-19 Uhr gibt es Spiele\, Grillwurst\, Getränke und vieles mehr!\n  \n 
URL:https://www.kjhb.jugendinemden.de/event/shools-out-party/
CATEGORIES:Feier
END:VEVENT
END:VCALENDAR